BEGIN:VCALENDAR
VERSION:2.0
PRODID:-//ExhibitionMatches.com//NONSGML v1.0//EN
BEGIN:VEVENT
UID=FEC13EEE-BA88-8CBD-B48A80FAC2485C02
DTSTAMP=20260421T214441Z
DTSTART;VALUE=DATE:20261025
DTEND;VALUE=DATE:20261026
SUMMARY:WrestlingTournaments.com Presents: Halloween Havoc @ MSK Manalapan ( Female Only Division)
LOCATION:MSK Manalapan, 150 Woodward Rd, Manalapan, NJ
DESCRIPTION:View full event details: https://wrestlingtournaments.org/view.cfm?ID=107118

URL;VALUE=URI:https://wrestlingtournaments.org/view.cfm?ID=107118
END:VEVENT
END:VCALENDAR