BEGIN:VCALENDAR
VERSION:2.0
PRODID:-//ExhibitionMatches.com//NONSGML v1.0//EN
BEGIN:VEVENT
UID=FEBC8D2F-9317-0C74-D576BF355649E9EB
DTSTAMP=20260421T214410Z
DTSTART;VALUE=DATE:20260719
DTEND;VALUE=DATE:20260720
SUMMARY:WrestlingTournaments.com Presents: Summer WAR Zone at The Fieldhouse! (Open Division [Athletes over 18])
LOCATION:The Fieldhouse, 140 Legrand Ave, Northvale, NJ
DESCRIPTION:View full event details: https://wrestlingtournaments.org/view.cfm?ID=107094

URL;VALUE=URI:https://wrestlingtournaments.org/view.cfm?ID=107094
END:VEVENT
END:VCALENDAR