BEGIN:VCALENDAR
VERSION:2.0
PRODID:-//ExhibitionMatches.com//NONSGML v1.0//EN
BEGIN:VEVENT
UID=FEBE0B15-097D-C306-895C4CB2BEB1411A
DTSTAMP=20260421T214420Z
DTSTART;VALUE=DATE:20260719
DTEND;VALUE=DATE:20260720
SUMMARY:WrestlingTournaments.com Presents: Summer WAR Zone at The Fieldhouse! (Female Only Division)
LOCATION:The Fieldhouse, 140 Legrand Ave, Northvale, NJ
DESCRIPTION:View full event details: https://wrestlingtournaments.org/view.cfm?ID=107093

URL;VALUE=URI:https://wrestlingtournaments.org/view.cfm?ID=107093
END:VEVENT
END:VCALENDAR