BEGIN:VCALENDAR
VERSION:2.0
PRODID:-//ExhibitionMatches.com//NONSGML v1.0//EN
BEGIN:VEVENT
UID=FE95E953-FF96-81E1-67447D7D685CB50D
DTSTAMP=20260421T213957Z
DTSTART;VALUE=DATE:20260719
DTEND;VALUE=DATE:20260720
SUMMARY:WrestlingTournaments.com Presents: Summer WAR Zone at The Fieldhouse!
LOCATION:The Fieldhouse, 140 Legrand Ave, Northvale, NJ
DESCRIPTION:View full event details: https://wrestlingtournaments.org/view.cfm?ID=107092

URL;VALUE=URI:https://wrestlingtournaments.org/view.cfm?ID=107092
END:VEVENT
END:VCALENDAR