BEGIN:VCALENDAR
VERSION:2.0
PRODID:-//ExhibitionMatches.com//NONSGML v1.0//EN
BEGIN:VEVENT
UID=FEC9CAF8-0DE7-1A89-F7F810C6A3D5ED5E
DTSTAMP=20260421T214537Z
DTSTART;VALUE=DATE:20260715
DTEND;VALUE=DATE:20260716
SUMMARY:Brawl at the Beach
LOCATION:Bally's Atlantic City Hotel &amp; Casino, 1900 Pacific Avenue, Atlantic City, NJ
DESCRIPTION:View full event details: https://wrestlingtournaments.org/view.cfm?ID=107088
Contact: Bob Miller bobmillerww@comcast.net
URL;VALUE=URI:https://wrestlingtournaments.org/view.cfm?ID=107088
END:VEVENT
END:VCALENDAR