BEGIN:VCALENDAR
VERSION:2.0
PRODID:-//ExhibitionMatches.com//NONSGML v1.0//EN
BEGIN:VEVENT
UID=FED9C678-0CF2-7803-B2170790DA1D18BC
DTSTAMP=20260421T214721Z
DTSTART;VALUE=DATE:20261004
DTEND;VALUE=DATE:20261005
SUMMARY:WrestlingTournaments.com Presents: Fall WAR Zone at The Fieldhouse!
LOCATION:The Fieldhouse, 140 Legrand Ave, Northvale, NJ
DESCRIPTION:View full event details: https://wrestlingtournaments.org/view.cfm?ID=106979

URL;VALUE=URI:https://wrestlingtournaments.org/view.cfm?ID=106979
END:VEVENT
END:VCALENDAR